BEGIN:VCALENDAR
VERSION:2.0
PRODID:-//Montour Falls Memorial Library - ECPv6.15.20//NONSGML v1.0//EN
CALSCALE:GREGORIAN
METHOD:PUBLISH
X-WR-CALNAME:Montour Falls Memorial Library
X-ORIGINAL-URL:https://montourfallslibrary.org
X-WR-CALDESC:Events for Montour Falls Memorial Library
REFRESH-INTERVAL;VALUE=DURATION:PT1H
X-Robots-Tag:noindex
X-PUBLISHED-TTL:PT1H
BEGIN:VTIMEZONE
TZID:UTC
BEGIN:STANDARD
TZOFFSETFROM:+0000
TZOFFSETTO:+0000
TZNAME:UTC
DTSTART:20250101T000000
END:STANDARD
END:VTIMEZONE
BEGIN:VEVENT
DTSTART;TZID=UTC:20260415T180000
DTEND;TZID=UTC:20260415T190000
DTSTAMP:20260419T125004
CREATED:20260319T190157Z
LAST-MODIFIED:20260319T190157Z
UID:1525-1776276000-1776279600@montourfallslibrary.org
SUMMARY:Spring Story Time
DESCRIPTION:Spring Storytime • Wednesdays at 6pm \nStorytimes are geared toward ages 0-8 and are followed by an art project or other themed activity. \nDiving into books from an early age is like handing them a magical key to the world of letters and sounds! It’s the first step on their epic journey to becoming a reading superstar. Introducing kids to books and the magic of language early on is like giving them a superpower for vocabulary\, understanding others\, and expressing themselves!
URL:https://montourfallslibrary.org/event/spring-story-time-3/
LOCATION:Montour Falls Library\, 406 W Main Street\, Montour Falls\, NY\, 14865\, United States
ATTACH;FMTTYPE=image/png:https://montourfallslibrary.org/wp-content/uploads/2026/02/updated-spring-story-time.png
END:VEVENT
BEGIN:VEVENT
DTSTART;TZID=UTC:20260415T180000
DTEND;TZID=UTC:20260415T200000
DTSTAMP:20260419T125004
CREATED:20260319T204840Z
LAST-MODIFIED:20260402T145017Z
UID:1548-1776276000-1776283200@montourfallslibrary.org
SUMMARY:Art Workshops with Cynthia Cratsley - Neurographic Watercolor
DESCRIPTION:Join us for our 2026 Art Workshop season with Cynthia Cratsley! \nWednesday\, April 15th • 6pm • Neurographic Watercolor \nThis event is being held in conjunction with our Spring Story Time hour! Please feel free to bring your children to story time while you participate in the Art Workshop class. \nEDIT: The Neurographic Watercolor class has already reached capacity! If you would like to be placed on the waitlist\, please fill out THIS FORM and you will be contacted if a spot opens up. Thank you!  \nClasses to follow: \nSaturday\, May 2nd • 11:30 am • Stained Glass Paper Craft \nSaturday\, June 20th • 11:30 am • Cyanotype \nRegistration is required! Registration for each class will open two weeks prior to the class date. These classes are each capped at 12 participants. If capacity is already reached when you fill out the form\, you will be contacted about being placed on the waitlist.\nSupplies will be provided! \nBy registering you are agreeing to follow all Library Policies\, including the Rules of Respect. Please contact the Montour Falls Library as soon as possible if you are not able to attend a workshop that you have been registered for. No-calls and no-shows are subject to being added to the waiting list for future programs that require registration. \nPlease notify the Library with any accessibility requirements you may need\, if any\, and we will do our best to make accommodations. Ramp access is at the rear of the building\, around the corner. Ring the door bell and staff will be right with you. People with crutches\, walkers\, canes\, strollers\, wheelchairs\, power wheel chairs\, or those who simply enjoy a short stroll are welcome to use the ramp.
URL:https://montourfallslibrary.org/event/art-workshops-with-cynthia-cratsley-neurographic-watercolor/
LOCATION:Montour Falls Library\, 406 W Main Street\, Montour Falls\, NY\, 14865\, United States
ATTACH;FMTTYPE=image/png:https://montourfallslibrary.org/wp-content/uploads/2026/03/FINAL-Art-Workshops-with-Cynthia-2026.png
END:VEVENT
END:VCALENDAR